BEGIN:VCALENDAR
VERSION:2.0
PRODID:-//ChamberMaster//Event Calendar 2.0//EN
METHOD:PUBLISH
X-PUBLISHED-TTL:P3D
REFRESH-INTERVAL:P3D
CALSCALE:GREGORIAN
BEGIN:VEVENT
DTSTART:20260504T200000Z
DTEND:20260505T020000Z
X-MICROSOFT-CDO-ALLDAYEVENT:FALSE
SUMMARY:May the 4th Mug Club Event!
DESCRIPTION:Join us on Monday\, May 4th for our favorite Mug Club event of the year. Here's what's happening in our galaxy: ?? New Beer Release: We are thrilled to release this year's R2C2\, our American IPA. ?? New Food: Get your hands on our amazing new sandwich\, Chewie's Cannonball! It's out of this world. ?? Sweet Treats: Phalisha is baking up a fabulous\, themed dessert you won't want to miss. ?? Live Music: The best news of all? We have live music from our very own Tam Dreger & Friends starting at 7 PM! Gather your crew\, grab a pint of R2C2\, and let's celebrate. May the 4th be with you!
X-ALT-DESC;FMTTYPE=text/html:Join us on Monday\, May 4th for our favorite Mug Club event of the year. Here&#39\;s what&#39\;s happening in our galaxy: ?? New Beer Release: We are thrilled to release this year&#39\;s R2C2\, our American IPA. ?? New Food: Get your hands on our amazing new sandwich\, Chewie&#39\;s Cannonball! It&#39\;s out of this world. ?? Sweet Treats: Phalisha is baking up a fabulous\, themed dessert you won&#39\;t want to miss. ?? Live Music: The best news of all? We have live music from our very own Tam Dreger &amp\; Friends starting at 7 PM! Gather your crew\, grab a pint of R2C2\, and let&#39\;s celebrate. May the 4th be with you!
LOCATION:Creatures of Habit 1031 Meridian St Downtown Anderson
UID:e.1371.19205
SEQUENCE:3
DTSTAMP:20260420T205424Z
URL:https://business.madisoncochamber.com/events/details/may-the-4th-mug-club-event-19205
END:VEVENT

END:VCALENDAR
