BEGIN:VCALENDAR
VERSION:2.0
PRODID:-//ChamberMaster//Event Calendar 2.0//EN
METHOD:PUBLISH
X-PUBLISHED-TTL:P3D
REFRESH-INTERVAL:P3D
CALSCALE:GREGORIAN
BEGIN:VEVENT
DTSTART:20260501T210000Z
DTEND:20260502T000000Z
X-MICROSOFT-CDO-ALLDAYEVENT:FALSE
SUMMARY:KaBloom! A Floral Exhibition\, Auction\, and Makers Market
DESCRIPTION:Join us on May 1 for KaBloom!\, a vibrant floral art exhibition where creativity blossoms and community comes together. Explore a stunning collection of floral-inspired works\, each one available for auction in support of the Anderson Museum of Art. The evening also features a lively makers market showcasing talented local artisans\, perfect for discovering unique\, handcrafted pieces. The market opens at 5 PM\, followed by the exhibition and auction at 6 PM. Best of all\, admission is completely free. Come for the art\, stay for the experience\, and be part of something beautiful.
X-ALT-DESC;FMTTYPE=text/html:Join us on May 1 for KaBloom!\, a vibrant floral art exhibition where creativity blossoms and community comes together. Explore a stunning collection of floral-inspired works\, each one available for auction in support of the Anderson Museum of Art. The evening also features a lively makers market showcasing talented local artisans\, perfect for discovering unique\, handcrafted pieces. The market opens at 5 PM\, followed by the exhibition and auction at 6 PM. Best of all\, admission is completely free. Come for the art\, stay for the experience\, and be part of something beautiful.
LOCATION:Anderson Museum of Art\, 32 WEST 10TH STREET ANDERSON\, IN 46016
UID:e.1371.19204
SEQUENCE:3
DTSTAMP:20260420T204921Z
URL:https://business.madisoncochamber.com/events/details/kabloom-a-floral-exhibition-auction-and-makers-market-19204
END:VEVENT

END:VCALENDAR
